BEGIN:VCALENDAR
VERSION:2.0
PRODID:Imitheme.com 
BEGIN:VEVENT
UID:20260424T1157351851186428
DTSTAMP;TZID=UTC:2026-04-24 11:57:35
DTSTART;TZID=America/Los_Angeles:20260424T115735
DTEND;TZID=America/Los_Angeles:20260424T115735
SUMMARY:Clinique des courants - River Currents Clinics
LOCATION:Champlain Bridge\, Gatineau\, Quebec
DESCRIPTION:For the River currents clinics participants should be advanced flatwater paddlers and be very comfortable in the water.  It is essential that you are confident performing self rescues (the ability to get back onto the board after falling off) easily. Participants will need to provide their own cold water emersion gear (ie wet or dry suits) suitable for the water temperatures.  
URL:https://www.paddlefit.com/eventer/river-1-instructors-certification/
END:VEVENT
END:VCALENDAR
